BEGIN:VCALENDAR
VERSION:2.0
PRODID:-//Astronomisk Ungdom - ECPv6.15.20//NONSGML v1.0//EN
CALSCALE:GREGORIAN
METHOD:PUBLISH
X-WR-CALNAME:Astronomisk Ungdom
X-ORIGINAL-URL:https://www.astronomiskungdom.se
X-WR-CALDESC:Händelser för Astronomisk Ungdom
REFRESH-INTERVAL;VALUE=DURATION:PT1H
X-Robots-Tag:noindex
X-PUBLISHED-TTL:PT1H
BEGIN:VTIMEZONE
TZID:Europe/Stockholm
BEGIN:DAYLIGHT
TZOFFSETFROM:+0100
TZOFFSETTO:+0200
TZNAME:CEST
DTSTART:20250330T010000
END:DAYLIGHT
BEGIN:STANDARD
TZOFFSETFROM:+0200
TZOFFSETTO:+0100
TZNAME:CET
DTSTART:20251026T010000
END:STANDARD
BEGIN:DAYLIGHT
TZOFFSETFROM:+0100
TZOFFSETTO:+0200
TZNAME:CEST
DTSTART:20260329T010000
END:DAYLIGHT
BEGIN:STANDARD
TZOFFSETFROM:+0200
TZOFFSETTO:+0100
TZNAME:CET
DTSTART:20261025T010000
END:STANDARD
BEGIN:DAYLIGHT
TZOFFSETFROM:+0100
TZOFFSETTO:+0200
TZNAME:CEST
DTSTART:20270328T010000
END:DAYLIGHT
BEGIN:STANDARD
TZOFFSETFROM:+0200
TZOFFSETTO:+0100
TZNAME:CET
DTSTART:20271031T010000
END:STANDARD
END:VTIMEZONE
BEGIN:VEVENT
DTSTART;TZID=Europe/Stockholm:20260401T120000
DTEND;TZID=Europe/Stockholm:20260430T120000
DTSTAMP:20260421T024741
CREATED:20260323T100736Z
LAST-MODIFIED:20260323T100823Z
UID:47371-1775044800-1777550400@www.astronomiskungdom.se
SUMMARY:Lagrange Point #2
DESCRIPTION:Snart är det dags för den andra upplagan av ARRAYs gamejam Lagrange Point! \n\n\n\n\n\nHur fungerar ett gamejam? Alla som vill delta skickar in bidrag i form av spel (vanligast datorspel\, men allt inom kategorin räknas). Man kan samarbeta med andra eller delta själv. \n\n\n\nDet enda vi kräver är att ni själva gjort spelen (huvuddelarna iallafall)\, att de skickas in under tävlingsperioden och att de följer ett rymdtema. Gå gärna även med i ARRAY:s discordserver som används till eventuella nyheter och uppdateringar. \n\n\n\nSkicka in bidrag via mail till array@au.se\, ingen anmälan krävs\, dvs. drop-in för alla som är intresserade! \n\n\n\nOm tillräckligt många bidrag kommer in så hittar vi på något kul med dem! \n\n\n\nKontaktperson: Ordförande för ARRAY Oliver Delén Windfeldt\, 0793393327\, oliver.windfeldt@au.se
URL:https://www.astronomiskungdom.se/kalender/lagrange-point-2/
CATEGORIES:ARRAY
ORGANIZER;CN="ARRAY":MAILTO:array@au.se
END:VEVENT
BEGIN:VEVENT
DTSTART;TZID=Europe/Stockholm:20260502T110000
DTEND;TZID=Europe/Stockholm:20260503T160000
DTSTAMP:20260421T024741
CREATED:20260413T165305Z
LAST-MODIFIED:20260413T165307Z
UID:47631-1777719600-1777824000@www.astronomiskungdom.se
SUMMARY:Den digitala föreningskursen
DESCRIPTION:Den digitala föreningskursen äger rum 2-3 maj samt 23-24 maj för dig som är eller vill bli aktiv inom AU:s föreningsliv! Du får i fyra stycken kurspass fördelade över helgen lära dig om hur det är att driva en förening inom Astronomisk Ungdom\, hur du gör allt korrekt från start med årsmöten och BOEs\, till vilka typer av aktiviteter och evenemang er förening kan anordna och delta på!  \n\n\n\nAnmälan till den digitala föreningskursen är helt gratis och icke-bindande. Det går även bra att enbart delta på vissa kurspass.
URL:https://www.astronomiskungdom.se/kalender/den-digitala-foreningskursen/
LOCATION:Google Meet
END:VEVENT
BEGIN:VEVENT
DTSTART;TZID=Europe/Stockholm:20260508T170000
DTEND;TZID=Europe/Stockholm:20260510T150000
DTSTAMP:20260421T024741
CREATED:20260408T123435Z
LAST-MODIFIED:20260408T123509Z
UID:47594-1778259600-1778425200@www.astronomiskungdom.se
SUMMARY:Au-kongressen 2026
DESCRIPTION:AU-kongressen samlar varje år medlemmar\, medlemsföreningar och distrikt från hela landet till Astronomisk Ungdoms årsmöte. Under helgen fattas viktiga beslut om förbundets fortsatta arbete och framtida inriktning. Programmet bjuder också på spännande gästföreläsningar\, workshops och vår årliga finmiddag! Årets kongress hålls den 8–10 maj i Uppsala och alla medlemmar är varmt välkomna att anmäla sig. Ni kan läsa mer och anmäla er till kongressen här.  \n\n\n\nDet kommer att bli en fullspäckad rymdhelg så hoppas vi ses där!
URL:https://www.astronomiskungdom.se/kalender/au-kongressen-2026/
ATTACH;FMTTYPE=image/jpeg:https://www.astronomiskungdom.se/wp-content/uploads/2026/03/DSC01354-scaled.jpg
END:VEVENT
BEGIN:VEVENT
DTSTART;TZID=Europe/Stockholm:20260809T000000
DTEND;TZID=Europe/Stockholm:20260815T235959
DTSTAMP:20260421T024741
CREATED:20260305T111025Z
LAST-MODIFIED:20260305T111027Z
UID:47117-1786233600-1786838399@www.astronomiskungdom.se
SUMMARY:Rymdresan 2026 i Grekland
DESCRIPTION:Välkommen till detta årets rymdresa\, i antika stjärnskådarnas fotspår! I år beger vi oss till Grekland som är känd för tänkarna och filosoferna som står bakom forskningen vi har nått idag. Såsom Sokrates: grundaren till västerländsk filosofi\, Platon: som var matematiker\, filosof och författare\,  Aristoteles: en astronom och filosof.Vi ska tillsammans kolla upp mot stjärnhimlen från samma plats som de antika stjärnskådare. Vi ska bestiga berg och utforska hav\, besöka ikoniska platser såsom Acropolis och Meteora som ser ut att komma direkt från en sagovärld. Vi ska blicka upp i himlen från havet och dyka in i historien bakom astronomin vi känner till idag. Följ med oss på en fantastisk resa\, ett äventyr som garanterar vänskap\, kunskap och minnen för livet. Välkommen!Läs mer och hitta anmälan på au.se/rymdresanAnmälan stänger när platserna tagit slut\, eller senast 9 juni. Vi rekommenderar att du anmäler dig så tidigt som möjligt innan resekostnaderna drar iväg!
URL:https://www.astronomiskungdom.se/kalender/rymdresan-2026-i-grekland/
END:VEVENT
END:VCALENDAR